BEGIN:VCALENDAR
VERSION:2.0
PRODID:-//wp-events-plugin.com//7.2.3.1//EN
TZID:Europe/Amsterdam
X-WR-TIMEZONE:Europe/Amsterdam
BEGIN:VEVENT
UID:13@magazinewise.nl
DTSTART;TZID=Europe/Amsterdam;VALUE=DATE:20260320
DTEND;TZID=Europe/Amsterdam;VALUE=DATE:20260321
DTSTAMP:20260202T121557Z
URL:https://magazinewise.nl/energiekleiden/agenda/hier-opgewekt-2026/
SUMMARY:HIER opgewekt 2026
DESCRIPTION:In één dag alles over collectief energie besparen\, opwekken 
 en duurzame warmte\nOp vrijdag 20 maart 2026 vindt de 14e editie van HIER 
 opgewekt plaats: het grootste landelijke evenement over collectief energie
  besparen\, opwekken\, en duurzame warmte. En hét ontmoetingsmoment voor 
 iedereen die betrokken is bij lokale energie-initiatieven.\n\nMeer informa
 tie
ATTACH;FMTTYPE=image/jpeg:https://magazinewise.nl/energiekleiden/wp-conten
 t/uploads/2026/02/Scherm­afbeelding-2026-02-02-om-13.04.20.png
CATEGORIES:Evenement
LOCATION:Orpheus Theater\, Churchillplein 1\, Apeldoorn\, 7314 BZ\, Nederla
 nd
X-APPLE-STRUCTURED-LOCATION;VALUE=URI;X-ADDRESS=Churchillplein 1\, Apeldoor
 n\, 7314 BZ\, Nederland;X-APPLE-RADIUS=100;X-TITLE=Orpheus Theater:geo:0,0
END:VEVENT
BEGIN:VTIMEZONE
TZID:Europe/Amsterdam
X-LIC-LOCATION:Europe/Amsterdam
BEGIN:STANDARD
DTSTART:20251026T020000
TZOFFSETFROM:+0200
TZOFFSETTO:+0100
TZNAME:CET
END:STANDARD
END:VTIMEZONE
END:VCALENDAR